BEGIN:VCALENDAR
VERSION:2.0
PRODID:-//Greensboro Opera - ECPv6.15.20//NONSGML v1.0//EN
CALSCALE:GREGORIAN
METHOD:PUBLISH
X-ORIGINAL-URL:https://greensboroopera.org
X-WR-CALDESC:Events for Greensboro Opera
REFRESH-INTERVAL;VALUE=DURATION:PT1H
X-Robots-Tag:noindex
X-PUBLISHED-TTL:PT1H
BEGIN:VTIMEZONE
TZID:America/New_York
BEGIN:DAYLIGHT
TZOFFSETFROM:-0500
TZOFFSETTO:-0400
TZNAME:EDT
DTSTART:20190310T070000
END:DAYLIGHT
BEGIN:STANDARD
TZOFFSETFROM:-0400
TZOFFSETTO:-0500
TZNAME:EST
DTSTART:20191103T060000
END:STANDARD
BEGIN:DAYLIGHT
TZOFFSETFROM:-0500
TZOFFSETTO:-0400
TZNAME:EDT
DTSTART:20200308T070000
END:DAYLIGHT
BEGIN:STANDARD
TZOFFSETFROM:-0400
TZOFFSETTO:-0500
TZNAME:EST
DTSTART:20201101T060000
END:STANDARD
BEGIN:DAYLIGHT
TZOFFSETFROM:-0500
TZOFFSETTO:-0400
TZNAME:EDT
DTSTART:20210314T070000
END:DAYLIGHT
BEGIN:STANDARD
TZOFFSETFROM:-0400
TZOFFSETTO:-0500
TZNAME:EST
DTSTART:20211107T060000
END:STANDARD
END:VTIMEZONE
BEGIN:VEVENT
DTSTART;TZID=America/New_York:20201201T183000
DTEND;TZID=America/New_York:20201231T194500
DTSTAMP:20260419T235308
CREATED:20201113T194507Z
LAST-MODIFIED:20201208T180138Z
UID:1162-1606847400-1609443900@greensboroopera.org
SUMMARY:Winter Wonderlights at Greensboro Science Center with GO Holiday Carolers
DESCRIPTION:Visit the Greensboro Science Center for Winter Wonderlights from November 6 – January 3\, 2021. \nGreensboro Opera holiday carolers will appear every Thursday\, Friday and Saturday evening from 6:30 – 7:45 pm from November 6 – December 31 \n[Excluding Thanksgiving (Nov. 26)\, Christmas Eve (Dec. 24) and Christmas day (Dec. 25)]. \nFor more information\, visit greensboroscience.org or click here to reserve your tickets now. \nCelebrate the season with a holiday light experience like no other!
URL:https://greensboroopera.org/event/winter-wonderlights-at-greensboro-science-center-with-go-holiday-carolers/
LOCATION:Greensboro Science Center\, 4301 Lawndale Drive\, Greensboro\, NC\, 27455\, United States
END:VEVENT
BEGIN:VEVENT
DTSTART;TZID=America/New_York:20201216T180000
DTEND;TZID=America/New_York:20201216T190000
DTSTAMP:20260419T235308
CREATED:20200916T170726Z
LAST-MODIFIED:20201210T171942Z
UID:1144-1608141600-1608145200@greensboroopera.org
SUMMARY:GO Board Meeting
DESCRIPTION:
URL:https://greensboroopera.org/event/go-board-meeting-8/
LOCATION:Zoom Meeting
END:VEVENT
END:VCALENDAR