BEGIN:VCALENDAR
VERSION:2.0
PRODID:-//Greensboro Opera - ECPv6.15.20//NONSGML v1.0//EN
CALSCALE:GREGORIAN
METHOD:PUBLISH
X-ORIGINAL-URL:https://greensboroopera.org
X-WR-CALDESC:Events for Greensboro Opera
REFRESH-INTERVAL;VALUE=DURATION:PT1H
X-Robots-Tag:noindex
X-PUBLISHED-TTL:PT1H
BEGIN:VTIMEZONE
TZID:America/New_York
BEGIN:DAYLIGHT
TZOFFSETFROM:-0500
TZOFFSETTO:-0400
TZNAME:EDT
DTSTART:20190310T070000
END:DAYLIGHT
BEGIN:STANDARD
TZOFFSETFROM:-0400
TZOFFSETTO:-0500
TZNAME:EST
DTSTART:20191103T060000
END:STANDARD
BEGIN:DAYLIGHT
TZOFFSETFROM:-0500
TZOFFSETTO:-0400
TZNAME:EDT
DTSTART:20200308T070000
END:DAYLIGHT
BEGIN:STANDARD
TZOFFSETFROM:-0400
TZOFFSETTO:-0500
TZNAME:EST
DTSTART:20201101T060000
END:STANDARD
BEGIN:DAYLIGHT
TZOFFSETFROM:-0500
TZOFFSETTO:-0400
TZNAME:EDT
DTSTART:20210314T070000
END:DAYLIGHT
BEGIN:STANDARD
TZOFFSETFROM:-0400
TZOFFSETTO:-0500
TZNAME:EST
DTSTART:20211107T060000
END:STANDARD
END:VTIMEZONE
BEGIN:VEVENT
DTSTART;TZID=America/New_York:20201102T120000
DTEND;TZID=America/New_York:20201102T130000
DTSTAMP:20260419T235412
CREATED:20201026T191546Z
LAST-MODIFIED:20201026T191546Z
UID:1179-1604318400-1604322000@greensboroopera.org
SUMMARY:GO Nominating Committee Meeting
DESCRIPTION:
URL:https://greensboroopera.org/event/go-nominating-committee-meeting-2/
LOCATION:Zoom Meeting
END:VEVENT
BEGIN:VEVENT
DTSTART;TZID=America/New_York:20201109T120000
DTEND;TZID=America/New_York:20201109T130000
DTSTAMP:20260419T235412
CREATED:20201104T180142Z
LAST-MODIFIED:20201104T180142Z
UID:1188-1604923200-1604926800@greensboroopera.org
SUMMARY:GO Nominating Committee Meeting
DESCRIPTION:
URL:https://greensboroopera.org/event/go-nominating-committee-meeting-3/
LOCATION:Zoom Meeting
END:VEVENT
BEGIN:VEVENT
DTSTART;TZID=America/New_York:20201110T170000
DTEND;TZID=America/New_York:20201110T180000
DTSTAMP:20260419T235412
CREATED:20201028T180527Z
LAST-MODIFIED:20201106T214813Z
UID:1181-1605027600-1605031200@greensboroopera.org
SUMMARY:GO Executive Board Meeting
DESCRIPTION:
URL:https://greensboroopera.org/event/go-executive-board-meeting-2/
LOCATION:Zoom Meeting
END:VEVENT
BEGIN:VEVENT
DTSTART;TZID=America/New_York:20201111T153000
DTEND;TZID=America/New_York:20201111T163000
DTSTAMP:20260419T235412
CREATED:20201023T153118Z
LAST-MODIFIED:20201023T153118Z
UID:1174-1605108600-1605112200@greensboroopera.org
SUMMARY:GO Special Events Committee Meeting
DESCRIPTION:
URL:https://greensboroopera.org/event/go-special-events-committee-meeting-7/
LOCATION:Zoom Meeting
END:VEVENT
BEGIN:VEVENT
DTSTART;TZID=America/New_York:20201111T180000
DTEND;TZID=America/New_York:20201111T190000
DTSTAMP:20260419T235412
CREATED:20201028T180628Z
LAST-MODIFIED:20201028T180628Z
UID:1183-1605117600-1605121200@greensboroopera.org
SUMMARY:GO Feasibility Subcommittee Meeting
DESCRIPTION:
URL:https://greensboroopera.org/event/go-feasibility-subcommittee-meeting/
LOCATION:Zoom Meeting
END:VEVENT
BEGIN:VEVENT
DTSTART;TZID=America/New_York:20201116T120000
DTEND;TZID=America/New_York:20201116T130000
DTSTAMP:20260419T235412
CREATED:20201113T193147Z
LAST-MODIFIED:20201113T193147Z
UID:1206-1605528000-1605531600@greensboroopera.org
SUMMARY:GO Nominating Committee Meeting
DESCRIPTION:
URL:https://greensboroopera.org/event/go-nominating-committee-meeting-4/
LOCATION:Zoom Meeting
END:VEVENT
BEGIN:VEVENT
DTSTART;TZID=America/New_York:20201117T180000
DTEND;TZID=America/New_York:20201117T190000
DTSTAMP:20260419T235412
CREATED:20200916T170654Z
LAST-MODIFIED:20201016T193817Z
UID:1142-1605636000-1605639600@greensboroopera.org
SUMMARY:GO Board Meeting
DESCRIPTION:
URL:https://greensboroopera.org/event/go-board-meeting-7/
LOCATION:Zoom Meeting
END:VEVENT
BEGIN:VEVENT
DTSTART;TZID=America/New_York:20201118T153000
DTEND;TZID=America/New_York:20201118T163000
DTSTAMP:20260419T235412
CREATED:20201113T193706Z
LAST-MODIFIED:20201113T193706Z
UID:1210-1605713400-1605717000@greensboroopera.org
SUMMARY:GO Special Events Committee Meeting
DESCRIPTION:
URL:https://greensboroopera.org/event/go-special-events-committee-meeting-8/
LOCATION:Zoom Meeting
END:VEVENT
BEGIN:VEVENT
DTSTART;TZID=America/New_York:20201120T150000
DTEND;TZID=America/New_York:20201120T160000
DTSTAMP:20260419T235412
CREATED:20201026T191424Z
LAST-MODIFIED:20201026T191424Z
UID:1177-1605884400-1605888000@greensboroopera.org
SUMMARY:GO Task Force on Social Justice Meeting
DESCRIPTION:
URL:https://greensboroopera.org/event/go-task-force-on-social-justice-meeting-2/
LOCATION:Zoom Meeting
END:VEVENT
BEGIN:VEVENT
DTSTART;TZID=America/New_York:20201124T160000
DTEND;TZID=America/New_York:20201124T170000
DTSTAMP:20260419T235412
CREATED:20201028T180819Z
LAST-MODIFIED:20201028T180819Z
UID:1185-1606233600-1606237200@greensboroopera.org
SUMMARY:GO Development Committee Meeting
DESCRIPTION:
URL:https://greensboroopera.org/event/go-development-committee-meeting/
LOCATION:Zoom Meeting
END:VEVENT
BEGIN:VEVENT
DTSTART;TZID=America/New_York:20201130T120000
DTEND;TZID=America/New_York:20201130T123000
DTSTAMP:20260419T235412
CREATED:20201125T205442Z
LAST-MODIFIED:20201125T205442Z
UID:1214-1606737600-1606739400@greensboroopera.org
SUMMARY:GO Nominating Committee Meeting
DESCRIPTION:
URL:https://greensboroopera.org/event/go-nominating-committee-meeting-5/
LOCATION:Zoom Meeting
END:VEVENT
END:VCALENDAR