BEGIN:VCALENDAR
VERSION:2.0
PRODID:-//Greensboro Opera - ECPv6.15.20//NONSGML v1.0//EN
CALSCALE:GREGORIAN
METHOD:PUBLISH
X-ORIGINAL-URL:https://greensboroopera.org
X-WR-CALDESC:Events for Greensboro Opera
REFRESH-INTERVAL;VALUE=DURATION:PT1H
X-Robots-Tag:noindex
X-PUBLISHED-TTL:PT1H
BEGIN:VTIMEZONE
TZID:America/New_York
BEGIN:DAYLIGHT
TZOFFSETFROM:-0500
TZOFFSETTO:-0400
TZNAME:EDT
DTSTART:20200308T070000
END:DAYLIGHT
BEGIN:STANDARD
TZOFFSETFROM:-0400
TZOFFSETTO:-0500
TZNAME:EST
DTSTART:20201101T060000
END:STANDARD
BEGIN:DAYLIGHT
TZOFFSETFROM:-0500
TZOFFSETTO:-0400
TZNAME:EDT
DTSTART:20210314T070000
END:DAYLIGHT
BEGIN:STANDARD
TZOFFSETFROM:-0400
TZOFFSETTO:-0500
TZNAME:EST
DTSTART:20211107T060000
END:STANDARD
BEGIN:DAYLIGHT
TZOFFSETFROM:-0500
TZOFFSETTO:-0400
TZNAME:EDT
DTSTART:20220313T070000
END:DAYLIGHT
BEGIN:STANDARD
TZOFFSETFROM:-0400
TZOFFSETTO:-0500
TZNAME:EST
DTSTART:20221106T060000
END:STANDARD
END:VTIMEZONE
BEGIN:VEVENT
DTSTART;TZID=America/New_York:20210305T120000
DTEND;TZID=America/New_York:20210305T130000
DTSTAMP:20260419T164215
CREATED:20210203T210133Z
LAST-MODIFIED:20210203T210133Z
UID:1331-1614945600-1614949200@greensboroopera.org
SUMMARY:GO Task Force on Social Justice Meeting
DESCRIPTION:
URL:https://greensboroopera.org/event/go-task-force-on-social-justice-meeting-4/
LOCATION:Zoom Meeting
END:VEVENT
BEGIN:VEVENT
DTSTART;TZID=America/New_York:20210309T173000
DTEND;TZID=America/New_York:20210309T183000
DTSTAMP:20260419T164215
CREATED:20210203T210257Z
LAST-MODIFIED:20210308T195206Z
UID:1333-1615311000-1615314600@greensboroopera.org
SUMMARY:GO Executive Board Meeting
DESCRIPTION:
URL:https://greensboroopera.org/event/go-executive-board-meeting-5/
LOCATION:Zoom Meeting
END:VEVENT
BEGIN:VEVENT
DTSTART;TZID=America/New_York:20210316T180000
DTEND;TZID=America/New_York:20210316T183000
DTSTAMP:20260419T164215
CREATED:20210308T194443Z
LAST-MODIFIED:20210308T194443Z
UID:1436-1615917600-1615919400@greensboroopera.org
SUMMARY:GO Board Meeting
DESCRIPTION:*The March board meeting will be followed by our Annual Meeting at 6:30 pm.
URL:https://greensboroopera.org/event/go-board-meeting-11/
LOCATION:Zoom Meeting
END:VEVENT
BEGIN:VEVENT
DTSTART;TZID=America/New_York:20210316T183000
DTEND;TZID=America/New_York:20210316T193000
DTSTAMP:20260419T164215
CREATED:20200519T192231Z
LAST-MODIFIED:20210308T194243Z
UID:1013-1615919400-1615923000@greensboroopera.org
SUMMARY:GO Annual Meeting
DESCRIPTION:Location TBD
URL:https://greensboroopera.org/event/go-annual-meeting/
LOCATION:Zoom Meeting
END:VEVENT
BEGIN:VEVENT
DTSTART;TZID=America/New_York:20210319T190000
DTEND;TZID=America/New_York:20210319T190000
DTSTAMP:20260419T164215
CREATED:20210202T210020Z
LAST-MODIFIED:20251022T165432Z
UID:1317-1616180400-1616180400@greensboroopera.org
SUMMARY:Porgy and Bess:From Novel to Play to Opera
DESCRIPTION:Presented by Keith Cushman\,\nProfessor Emeritus\, UNCG Department of English\n\n \n\n\nThe Greensboro and Triad arts and humanities community has been hit hard with the cancellation of live performances and other events. Thanks to a North Carolina Humanities Council Relief Grant\, Greensboro Opera brought our community together in a virtual\, immersive experience focusing on the evolution of the Gershwins’ beloved Porgy and Bess from novel to play to opera.\n\n \nOn three evenings in February and March 2021\, Greensboro Opera presented this series in celebration of Black History Month and in anticipation of its fully staged production of Porgy and Bess\, scheduled to be staged at the Steven Tanger Center for the Performing Arts in Greensboro on January 21 and 23\, 2022.\n\n \n#1:\nThe Novel Porgy (1925) by DuBose HeywardThis best-seller by a South Carolina writer became the source for the Gershwins’ Porgy and Bess. Porgy is notable for its powerful depiction of the Catfish Row community and its introduction of the tragic love story of Porgy and Bess. George Gershwin read the novel and decided that he wanted to make it the basis for an opera.\n \n \n#2:\nThe Play Porgy (1927) by Dubose and Dorothy Heyward\n \nThe Heywards adapted Porgy into a stage play.  The play\, not the novel\, provided the basic plot and structure for Porgy and Bess.  Porgy ran for 207 performances in New York and then went on an extensive road tour. \n \n \n#3:\nThe Opera Porgy and Bess (1935) with Music by George Gershwin and Lyrics by DuBose Heyward and Ira Gershwin\n \nPorgy and Bess is universally acclaimed as the great American opera. It is filled with such well known songs as “Summertime\,” “I Got Plenty o’ Nuttin’\,” and “It Ain’t Necessarily So.” Over the decades Porgy and Bess has provided classically trained Black singers the opportunity to perform and launch their careers.\n \n \n \n       \n \n \n \n 
URL:https://greensboroopera.org/event/porgy-bess-lectures/
LOCATION:Streamed Online
ATTACH;FMTTYPE=image/jpeg:https://greensboroopera.org/wp-content/uploads/2021/02/PB-From-Novel-to-Play-to-Opera-EventFeatured.jpg
END:VEVENT
BEGIN:VEVENT
DTSTART;TZID=America/New_York:20210323T170000
DTEND;TZID=America/New_York:20210323T180000
DTSTAMP:20260419T164215
CREATED:20210210T175434Z
LAST-MODIFIED:20210210T175434Z
UID:1379-1616518800-1616522400@greensboroopera.org
SUMMARY:GO Development Committee Meeting
DESCRIPTION:
URL:https://greensboroopera.org/event/go-development-committee-meeting-6/
LOCATION:Zoom Meeting
END:VEVENT
END:VCALENDAR